BEGIN:VCALENDAR
VERSION:2.0
PRODID:-//Drupal iCal API//EN
X-WR-CALNAME:Calendar of Events
X-WR-TIMEZONE:America/Chicago
BEGIN:VTIMEZONE
TZID:America/Chicago
X-LIC-LOCATION:America/Chicago
BEGIN:DAYLIGHT
TZNAME:CDT
TZOFFSETFROM:-0600
TZOFFSETTO:-0500
DTSTART:20260308T080000
END:DAYLIGHT
BEGIN:STANDARD
TZNAME:CST
TZOFFSETFROM:-0500
TZOFFSETTO:-0600
DTSTART:20251102T070000
END:STANDARD
END:VTIMEZONE
BEGIN:VEVENT
UID:761bf7fc-1399-497f-a033-4e066cfa51c5
DTSTART;TZID=America/Chicago:20260504T090000
SEQUENCE:0
TRANSP:TRANSPARENT
DTEND;TZID=America/Chicago:20260504T100000
SUMMARY:Campus Tour
CLASS:PUBLIC
DESCRIPTION:Body \n\nJoslin ES welcomes families to tour our campus!\n\n* D
 ATE/TIME: May 4th@ 9:00 am \n * LOCATION: 4500 Menchaca Rd\n * PARKING: V
 isitor parking is located off of Cimarron Trail \n\n 
DTSTAMP:20260408T193120Z
END:VEVENT
END:VCALENDAR